BEGIN:VCALENDAR
PRODID:-//Session events Calendar//IBA//EN
CALSCALE:GREGORIAN
VERSION:2.0
BEGIN:VEVENT
DTSTAMP:20260420T043551Z
DTSTART:20231028T133000Z
DTEND:20231028T144500Z
SUMMARY:Career development – how to succeed in a changing world
DESCRIPTION:The panel is aimed at young\, ambitious lawyers who are eager
  to conquer the ever-changing legal world. The panel features seasoned e
 xperts who will share invaluable insights\, empowering young lawyers to 
 chart a successful career path in the legal domain.\n\nThe panel will di
 scuss:\n\n\n	International arbitration careers from a counsel\, arbitrat
 or and institutional perspective. Our distinguished panellists will offe
 r exclusive insights into excelling in this dynamic field.\n	Empowering 
 your journey through training: discover the art of continuous training a
 nd its impact on elevating your legal skills. Our experts\, including a 
 representative from the prestigious French Bar Training School\, will sh
 are valuable advice on improving your professional prowess.\n	Entreprene
 urial skills: explore the practical guidelines\, tools\, and challenges 
 involved in establishing your own legal practice. Learn the best practic
 es and critical factors to consider on your entrepreneurial path.\n\n
LOCATION:
UID:24e7201b-05f1-41ea-ac06-4af030e78e30
END:VEVENT
END:VCALENDAR
