BEGIN:VCALENDAR
PRODID:-//Session events Calendar//IBA//EN
CALSCALE:GREGORIAN
VERSION:2.0
BEGIN:VEVENT
DTSTAMP:20260420T085409Z
DTSTART:20231030T163000Z
DTEND:20231030T173000Z
SUMMARY:International Commerce and Distribution Committee open business m
 eeting
DESCRIPTION:
LOCATION:Room 352 A&B\, Level 3
UID:d028c043-b50d-42b6-8d09-b4d8886cab3c
END:VEVENT
END:VCALENDAR
