BEGIN:VCALENDAR
PRODID:-//Session events Calendar//IBA//EN
CALSCALE:GREGORIAN
VERSION:2.0
BEGIN:VEVENT
DTSTAMP:20260420T103404Z
DTSTART:20231031T113000Z
DTEND:20231031T123000Z
SUMMARY:Law Firm Management Committee open business meeting
DESCRIPTION:An open meeting of the Law Firm Management Committee where al
 l committee members are invited to learn more about the extensive activi
 ties of the committee.
LOCATION:Room 342 A\, Level 3
UID:4cda2733-84fa-4c48-b8e8-21c69379416d
END:VEVENT
END:VCALENDAR
