BEGIN:VCALENDAR
PRODID:-//Session events Calendar//IBA//EN
CALSCALE:GREGORIAN
VERSION:2.0
BEGIN:VEVENT
DTSTAMP:20260420T103409Z
DTSTART:20231030T113000Z
DTEND:20231030T123000Z
SUMMARY:Maritime and Transport Law Committee open business meeting
DESCRIPTION:An open meeting of the Maritime and Transport Law Committee h
 eld to discuss matters of interest and future activities.\n
LOCATION:Room 353\, Level 3
UID:55b19d30-4424-43da-ae24-5d9b7ddffec3
END:VEVENT
END:VCALENDAR
