BEGIN:VCALENDAR
PRODID:-//Session events Calendar//IBA//EN
CALSCALE:GREGORIAN
VERSION:2.0
BEGIN:VEVENT
DTSTAMP:20260420T103456Z
DTSTART:20231102T133000Z
DTEND:20231102T163000Z
SUMMARY:Roundtable session on current developments
DESCRIPTION:The roundtables discussions cover topics of imminent importan
 ce often influenced by the submitted National Reports\, by measures of l
 egislation\, the OECD or other international bodies\, and aim at involvi
 ng the audience in a particularly personal manner
LOCATION:Room 252 A&B\, Level 2
UID:c7d8cef9-27e8-428d-8d79-9dd944027795
END:VEVENT
END:VCALENDAR
