BEGIN:VCALENDAR
PRODID:-//Session events Calendar//IBA//EN
CALSCALE:GREGORIAN
VERSION:2.0
BEGIN:VEVENT
DTSTAMP:20260424T170408Z
DTSTART:20230922T203000Z
DTEND:20230922T204500Z
SUMMARY:Closing remarks
DESCRIPTION:
LOCATION:
UID:b93631a4-454d-4766-8a18-c40f400ebdb7
END:VEVENT
END:VCALENDAR
