BEGIN:VCALENDAR
PRODID:-//Session events Calendar//IBA//EN
CALSCALE:GREGORIAN
VERSION:2.0
BEGIN:VEVENT
DTSTAMP:20260424T170403Z
DTSTART:20230922T113000Z
DTEND:20230922T130000Z
SUMMARY:Crypto currency\, digital platforms and metaverse - taxation on d
 igital services and trades
DESCRIPTION:As we navigate an era of unprecedented digital transformation
 \, understanding the tax dynamics associated with it becomes crucial. Ou
 r panel will take a deep dive into the taxation challenges and complexit
 ies associated with transactions within cryptocurrencies\, digital platf
 orms\, and the emerging metaverse. This exploration underscores the need
  for comprehensive\, equitable tax laws that keep pace with rapid techno
 logical advancements. Our panel of experts will offer insights into exis
 ting tax legislation\, highlight potential gaps\, discuss the need for c
 onsistency across jurisdictions\, and explore the economic implications 
 of these digital phenomena\, all while providing strategies to navigate 
 the contemporary tax landscape.
LOCATION:
UID:d9d1b155-dd7a-4930-b980-3776cf240ab9
END:VEVENT
END:VCALENDAR
