BEGIN:VCALENDAR
PRODID:-//Session events Calendar//IBA//EN
CALSCALE:GREGORIAN
VERSION:2.0
BEGIN:VEVENT
DTSTAMP:20260424T170408Z
DTSTART:20230922T153000Z
DTEND:20230922T170000Z
SUMMARY:Lunch
DESCRIPTION:
LOCATION:
UID:cc6a94ce-72e0-4f18-b639-408af6e5d103
END:VEVENT
END:VCALENDAR
