BEGIN:VCALENDAR
PRODID:-//Session events Calendar//IBA//EN
CALSCALE:GREGORIAN
VERSION:2.0
BEGIN:VEVENT
DTSTAMP:20260424T170403Z
DTSTART:20230922T170000Z
DTEND:20230922T183000Z
SUMMARY:From traditional sources to renewables: the role of green taxes
DESCRIPTION:The climate crisis is a topic of extensive international disc
 ussion\, emphasised by the signing of the Paris Agreement in December 20
 15. The Agreement\, signed by 196 countries\, aims to reduce carbon emis
 sions primarily through the transition from traditional energy sources t
 o renewable ones. These aims are further reflected in policies adopted b
 y governments around the world\, such as the European Green Deal\, appro
 ved in 2020\, which seeks to make the European Union climate-neutral by 
 2050. Governments worldwide are progressively leveraging tax mechanisms 
 to meet their environmental goals. Several nations have introduced tax b
 enefits to encourage eco-friendly behavior\, increase clean energy inves
 tments and foster sustainable growth in green energy\, and some have als
 o implemented particular charges\, tariffs\, or energy and environment-r
 elated taxes to discourage harmful practices.\nIn this context\, our exp
 ert panel will debate how governments from various jurisdictions are str
 iving to foster and stimulate investment in clean\, renewable energy thr
 ough tax policies and incentives\, the practical impact that these measu
 res could have on an enterprise’s return on investment and the opportuni
 ties these incentives and programmes present to impact investors.
LOCATION:
UID:bbbbccc4-a37e-4cc2-b6ba-4babf5b9dbbb
END:VEVENT
END:VCALENDAR
