BEGIN:VCALENDAR
PRODID:-//Session events Calendar//IBA//EN
CALSCALE:GREGORIAN
VERSION:2.0
BEGIN:VEVENT
DTSTAMP:20260424T170408Z
DTSTART:20230922T140000Z
DTEND:20230922T153000Z
SUMMARY:Challenges of structuring pre-migration planning for HNI and fami
 lies
DESCRIPTION:There could be many reasons why high-net-worth individuals wo
 uld want to relocate\; among others\, business\, education or tax may dr
 ive them to new jurisdictions. There are many jurisdictions which appear
  to be in a race to attract talent and wealth. These jurisdictions are p
 repared to offer incentives such as golden visas and tax incentives. The
 re could be consequences due to change in domicility or tax residence\, 
 and implications on existing trust structures relating to the governing 
 law. There are also non-tax issues that would impact on those migrating\
 , including succession law\, pre-nuptial agreements and lasting power of
  attorney. Ultimately\, safety\, security and certainty may be the key d
 eterminants motivating migratory plans. The panel will explore these mig
 ratory issues and the consequential impact that they will give rise to f
 or the wealthy.\n
LOCATION:
UID:9ca3764b-05dd-41f9-910d-435010923e6a
END:VEVENT
END:VCALENDAR
