BEGIN:VCALENDAR
PRODID:-//Session events Calendar//IBA//EN
CALSCALE:GREGORIAN
VERSION:2.0
BEGIN:VEVENT
DTSTAMP:20260424T170402Z
DTSTART:20230922T190000Z
DTEND:20230922T203000Z
SUMMARY:New developments in structuring investments in and expansion of s
 tart-ups
DESCRIPTION:In an environment where start-ups are becoming increasingly i
 ntegral to the economy\, understanding the fiscal dynamics of investment
  structures and their expansion is essential. In this context\, our pane
 l will delve into the cutting-edge developments in fiscal planning relat
 ed to start-up investments and their growth. We will shed light on the t
 ax implications that stem from different investment architectures\, addr
 ess the challenges therein\, and explore the innovative solutions that h
 ave emerged. Our exploration will include an in-depth analysis of the co
 mplex interplay between taxation policy\, investment growth\, and start-
 up expansion\, with the aim of providing valuable insights for investors
 \, entrepreneurs\, and those practicing tax law.\n
LOCATION:
UID:c4cd3154-18a3-46a9-92b3-1230117d6449
END:VEVENT
END:VCALENDAR
