BEGIN:VCALENDAR
PRODID:-//Session events Calendar//IBA//EN
CALSCALE:GREGORIAN
VERSION:2.0
BEGIN:VEVENT
DTSTAMP:20260424T170240Z
DTSTART:20230922T110000Z
DTEND:20230922T190000Z
SUMMARY:Registration
DESCRIPTION:
LOCATION:
UID:eee33e06-5b65-4327-a8d6-e151f9e682a1
END:VEVENT
END:VCALENDAR
