BEGIN:VCALENDAR
PRODID:-//Session events Calendar//IBA//EN
CALSCALE:GREGORIAN
VERSION:2.0
BEGIN:VEVENT
DTSTAMP:20260424T170403Z
DTSTART:20230921T190000Z
DTEND:20230921T203000Z
SUMMARY:The analysis of the tax burden of the affiliate of MNEs from OECD
  member countries - definition of corporate taxes and tax benefits
DESCRIPTION:The tax burden shouldered by affiliates of multinational ente
 rprises (MNEs) operating within OECD member countries is a complex issue
  of considerable significance in today’s globalised economy.\nBy focusin
 g on the nuances of corporate taxes and tax benefits\, we’ll elucidate t
 hese topics and their role in shaping fiscal policy and business strateg
 ies.\nOur panel of experts will provide their insights on the definition
  of corporate taxes\, the taxonomy of tax benefits\, and how these eleme
 nts collectively shape the overall tax obligation of MNE affiliates. The
  discussion will also explore potential avenues for tax optimisation\, t
 he dynamics of international tax competition\, and the regulatory challe
 nges in harmonising tax rules among OECD member countries.
LOCATION:
UID:3830a71d-3b53-4a2f-be30-5c6b9c66645f
END:VEVENT
END:VCALENDAR
