BEGIN:VCALENDAR
PRODID:-//Session events Calendar//IBA//EN
CALSCALE:GREGORIAN
VERSION:2.0
BEGIN:VEVENT
DTSTAMP:20260424T170408Z
DTSTART:20230921T170000Z
DTEND:20230921T183000Z
SUMMARY:Sports and taxes - taxation of SAF / capital gains on internation
 al transfer of athletes and compensation structures (star companies)
DESCRIPTION:Football is Brazil´s national passion. A recent legislation h
 as passed regulating the incorporation of football corporations (‘SAFs’)
 \, opening room for a significant number of new investment opportunities
 . Since last year\, foreign investors have been acquiring stakes of trad
 itional football clubs and negotiating the acquisition of rights to expl
 ore the Brazilian national league. Given that substantial amounts of mon
 ey are part of the game – player transfers\, image rights\, TV quotas\, 
 licensed products\, bets and so on – this has sparked the interest of ta
 x administration to increase the collection of taxes internally and on c
 ross-border transactions. \n\nThe panel will discuss with internationall
 y experienced professionals tax issues arising from investment structure
 s in Brazil and other countries\, the remuneration of players and the in
 ternational transfers and loan of players among other topics.\n
LOCATION:
UID:ee965578-ab59-4c38-a5f1-d9f00837a0a3
END:VEVENT
END:VCALENDAR
