BEGIN:VCALENDAR
PRODID:-//Session events Calendar//IBA//EN
CALSCALE:GREGORIAN
VERSION:2.0
BEGIN:VEVENT
DTSTAMP:20260424T170403Z
DTSTART:20230921T113000Z
DTEND:20230921T114500Z
SUMMARY:Welcome address
DESCRIPTION:
LOCATION:
UID:5eb511e9-35ab-4556-99aa-b57407744528
END:VEVENT
END:VCALENDAR
