BEGIN:VCALENDAR
PRODID:-//Session events Calendar//IBA//EN
CALSCALE:GREGORIAN
VERSION:2.0
BEGIN:VEVENT
DTSTAMP:20260424T170300Z
DTSTART:20230921T110000Z
DTEND:20230921T190000Z
SUMMARY:Registration
DESCRIPTION:
LOCATION:
UID:2e022010-8756-4e00-9356-c80e8403830c
END:VEVENT
END:VCALENDAR
