BEGIN:VCALENDAR
PRODID:-//Session events Calendar//IBA//EN
CALSCALE:GREGORIAN
VERSION:2.0
BEGIN:VEVENT
DTSTAMP:20260422T135722Z
DTSTART:20230601T184500Z
DTEND:20230601T194500Z
SUMMARY:Plenary session two - From primary to secondary use of health per
 sonal data\, from open data to intellectual property investment protecti
 on: is privacy opposed to data valuation?
DESCRIPTION:How can we ethically and effectively share and value health d
 ata for both primary and secondary use? Join our panel of experts as the
 y will explore the opportunities and challenges of leveraging health dat
 a to improve healthcare outcomes\, drive innovation\, and advance resear
 ch. We’ll delve into key questions such as: How can we ensure data priva
 cy and security while promoting data sharing? What are the ethical consi
 derations around data ownership and informed consent? Which should be th
 e boundaries between the processing of health data\, privacy and the dev
 elopment of innovation in health? What are the concerns and challenges f
 or the international transfer of data between the US and EU due to the s
 hield\, Data Governance Act and European data space? Don’t miss this dis
 cussion on the cutting edge of health data sharing and valuation.
LOCATION:
UID:613f97c8-befd-4a83-9a52-c00c9cb2650e
END:VEVENT
END:VCALENDAR
