BEGIN:VCALENDAR
PRODID:-//Session events Calendar//IBA//EN
CALSCALE:GREGORIAN
VERSION:2.0
BEGIN:VEVENT
DTSTAMP:20260422T135837Z
DTSTART:20230601T174500Z
DTEND:20230601T184500Z
SUMMARY:Plenary session one - Technology (AI) and the engagement of physi
 cians
DESCRIPTION:
LOCATION:
UID:dd27f70c-2ba3-4230-8959-5e3041387188
END:VEVENT
END:VCALENDAR
