BEGIN:VCALENDAR
PRODID:-//Session events Calendar//IBA//EN
CALSCALE:GREGORIAN
VERSION:2.0
BEGIN:VEVENT
DTSTAMP:20260422T121543Z
DTSTART:20230601T134000Z
DTEND:20230601T162500Z
SUMMARY:Roundtables
DESCRIPTION:Topic one\nPost-Covid-19 litigation trends \n\nModerators\nJa
 mes C FraserThompson Hine\, Washington\, DC\nBeth Weinman Ropes &amp\; G
 ray\, Washington\, DC\n\nTopic two\nResponsibility\, liability and confl
 ict of interests: risks met by compliance officers\n\nModerators\nCather
 ine Longeval Van Bael &amp\; Bellis\, Brussels\nEmily MasonAmgen\, Los A
 ngeles\, California\n\nTopic three\nEvolution of product liability rules
  \n\nModerators\nEric AlexanderReed Smith\, Washington\, DC\nEdona Vila 
 Borden Ladner Gervais\, Toronto\, Ontario\n\nTopic four\nEvolution of te
 lemedicine (survey conducted by the IBA Healthcare and Life Sciences Com
 mittee)\n\nModerators\nRenata FialhoVeirano\, São Paulo\nRené Quashie Vi
 ce President\, Digital Health\, Consumer Technology Association\, produc
 er of CES®\, Washington\, DC \n\nTopic five\nRare diseases and the conti
 nuous challenge of marketing an orphan drug \n\nModerators\nDavid Parson
 s Leadiant Biosciences\, Washington\, DC\nKristin Wall Norton Rose\, Tor
 onto\, Ontario\n\nTopic six\nCurrent opportunities and challenges in str
 ategic collaborations\n\nModerators\nHarry Rubin Kramer Levin\, New York
 \nElysangela De Oliveria Rabelo Maurer Rabelo Maurer\, Brazil\n\nTopic s
 even\nThe European unitary patent court system\n\nModerators\nChristophe
  Ronse Altius\, Brussels\nAmrish Tiwari KNS Partners\, Gurgaon\, Haryana
 \n\nTopic eight\nPost public health emergency\n\nModerator\nHoward Sklam
 berg Arnold &amp\; Porter\, Washington\, DC\n\n\nTopic nine\nPatents in 
 the US versus ROW\n\nModerators\nJason Jardine Knobbe Martens\, San Dieg
 o\, California\nAlex Spiegler ArentFox Schiff\, New York\n\nTopic ten\nI
 mpact of metaverse on life sciences industry: fiction or future reality?
 \n\nModerators\nJeff Costellia Nixon Peabody\, Washington\, DC\nElisa St
 efanini Portolano Cavallo\, Milan\n\nTopic eleven\nRecent regulatory cha
 nges and opportunities in medical and recreational cannabis\n\nModerator
 s\nIgnacio Gillmore Carey\, Santiago\nMariana Larrea Grupo Libera\, Mexi
 co City\n\nTopic twelve\nPublic to private sector technology transfer: c
 hallenges and solutions\n\nModerator\nCamila Parise Pinheiro Neto\, São 
 Paulo\n\nTopic thirteen\nFood labelling (octagons\, symbols\, difficulti
 es) and cannabis regulations\n\nModerators\nAna Maria Castro Lloreda Cam
 acho\, Bogota\nViviana Cervieri Cervieri Monsuárez\, Montevido\n\nTopic 
 fourteen\nManaging market access at a global level\n\nModerators\nMarkus
  Schott Bär &amp\; Karrer\, Zurich\nCharlotte Tillett Stevens &amp\; Bol
 ton\, Guildford\, Surrey\, England\n\nTopic fifteen\nPricing of medicati
 ons\n\nModerators\nMiranda Franco Holland &amp\; Knight\, Washington\, D
 C\nAndreas Wildi Walder Wyss\, Zurich\n\nTopic sixteen\nAbortion pill: m
 edicine versus law \n\nModerators\nJohn Murphy Chief Policy Officer\, Bi
 otechnology Innovation Organization\, Washington\, DC\nEva Temkin King &
 amp\; Spalding\, Washington\, DC\n\nTopic seventeen\nHow new players wil
 l impact traditional healthcare providers\n\n\nModerator\nGary Copelovit
 zLipa Meir &amp\; Co\, Tel Aviv\n
LOCATION:
UID:08839688-7030-45b1-be28-7ed238f5b3f9
END:VEVENT
END:VCALENDAR
