BEGIN:VCALENDAR
PRODID:-//Session events Calendar//IBA//EN
CALSCALE:GREGORIAN
VERSION:2.0
BEGIN:VEVENT
DTSTAMP:20260422T121543Z
DTSTART:20230601T131000Z
DTEND:20230601T134000Z
SUMMARY:Keynote Speaker
DESCRIPTION:Keynote Speaker\n\nMark Abdoo Associate Commissioner for Glob
 al Policy and Strategy\, US Food and Drug Administration\, Washington\, 
 DC\n
LOCATION:
UID:5d758fd5-3fe1-4faf-ab46-6816ca86f050
END:VEVENT
END:VCALENDAR
