BEGIN:VCALENDAR
PRODID:-//Session events Calendar//IBA//EN
CALSCALE:GREGORIAN
VERSION:2.0
BEGIN:VEVENT
DTSTAMP:20260422T121500Z
DTSTART:20230601T170000Z
DTEND:20230601T174500Z
SUMMARY:Lunch
DESCRIPTION:
LOCATION:
UID:f4d49e7d-7403-4d3b-8804-706abfb3d828
END:VEVENT
END:VCALENDAR
