BEGIN:VCALENDAR
PRODID:-//Session events Calendar//IBA//EN
CALSCALE:GREGORIAN
VERSION:2.0
BEGIN:VEVENT
DTSTAMP:20260420T085409Z
DTSTART:20231031T070000Z
DTEND:20231031T081500Z
SUMMARY:Family Law Committee breakfast
DESCRIPTION:A breakfast meeting of the Family Law Committee will take pla
 ce to discuss matters of interest and future activities\, as well as to 
 provide updates on the activities of the Committee.
LOCATION:Neuilly 2&3\, Palais de Congres de Paris
UID:9f9ff45d-bef3-460f-a3e2-4e221444d50b
END:VEVENT
END:VCALENDAR
