BEGIN:VCALENDAR
PRODID:-//Session events Calendar//IBA//EN
CALSCALE:GREGORIAN
VERSION:2.0
BEGIN:VEVENT
DTSTAMP:20260420T090744Z
DTSTART:20230505T130000Z
DTEND:20230505T143000Z
SUMMARY:National security: treason and espionage
DESCRIPTION:The panel will explore the latest developments across jurisdi
 ctions on laws and enforcement activity surrounding treason\, espionage\
 , and other national security topics.\n
LOCATION:
UID:3f34bd88-9b7e-4498-b0c2-c69dae5bf82a
END:VEVENT
END:VCALENDAR
