BEGIN:VCALENDAR
PRODID:-//Session events Calendar//IBA//EN
CALSCALE:GREGORIAN
VERSION:2.0
BEGIN:VEVENT
DTSTAMP:20260424T170403Z
DTSTART:20230921T153000Z
DTEND:20230921T170000Z
SUMMARY:lunch
DESCRIPTION:
LOCATION:
UID:8e982338-8ffd-4745-b8fa-47673cc17508
END:VEVENT
END:VCALENDAR
