BEGIN:VCALENDAR
PRODID:-//Session events Calendar//IBA//EN
CALSCALE:GREGORIAN
VERSION:2.0
BEGIN:VEVENT
DTSTAMP:20260424T170408Z
DTSTART:20230922T130000Z
DTEND:20230922T133000Z
SUMMARY:Coffee/tea break
DESCRIPTION:
LOCATION:
UID:45d8ee5a-c449-4cb7-aa0b-06ce6582fa51
END:VEVENT
END:VCALENDAR
