BEGIN:VCALENDAR
PRODID:-//Session events Calendar//IBA//EN
CALSCALE:GREGORIAN
VERSION:2.0
BEGIN:VEVENT
DTSTAMP:20260424T170403Z
DTSTART:20230921T183000Z
DTEND:20230921T190000Z
SUMMARY:Coffee/tea break
DESCRIPTION:
LOCATION:
UID:de3d0658-2d93-4cd4-add2-4418efa2ccda
END:VEVENT
END:VCALENDAR
