BEGIN:VCALENDAR
PRODID:-//Session events Calendar//IBA//EN
CALSCALE:GREGORIAN
VERSION:2.0
BEGIN:VEVENT
DTSTAMP:20260424T170408Z
DTSTART:20230921T133000Z
DTEND:20230921T140000Z
SUMMARY:Coffee/tea break
DESCRIPTION:
LOCATION:
UID:38e42677-8c1e-4caa-9ba5-4aee181eccc6
END:VEVENT
END:VCALENDAR
