BEGIN:VCALENDAR
PRODID:-//Session events Calendar//IBA//EN
CALSCALE:GREGORIAN
VERSION:2.0
BEGIN:VEVENT
DTSTAMP:20260420T090807Z
DTSTART:20231031T101500Z
DTEND:20231031T113000Z
SUMMARY:Antimicrobial resistance regulation in the context of one health:
  how legislation can help reduce AMR
DESCRIPTION:There are legal and policy challenges ahead of us when it com
 es to preventing the increase of antimicrobial resistance (AMR) while fe
 eding a growing world population and meeting global food security concer
 ns: what are the viable solutions to addressing AMR\, and what are the c
 onsequences if we do not act now?
LOCATION:Rooms 212-213\, Level 2
UID:9e8ce68c-ea0d-49a9-a6ef-23550c07bbd0
END:VEVENT
END:VCALENDAR
