BEGIN:VCALENDAR
PRODID:-//Session events Calendar//IBA//EN
CALSCALE:GREGORIAN
VERSION:2.0
BEGIN:VEVENT
DTSTAMP:20260420T090808Z
DTSTART:20231031T101500Z
DTEND:20231031T113000Z
SUMMARY:Product liability and related criminal cases
DESCRIPTION:The panel will present and discuss the following aspects of c
 riminal cases in product liability cases:\n\n\n	individual and corporate
  criminal liability/administrative liability\;\n	criminal proceedings an
 d parallel supervisory authority proceedings as well as civil proceeding
 s\;\n	how to deal with customers and media\; and\n	corporate compliance/
 technical product compliance.\n\n
LOCATION:Room 251\, Level 2
UID:c996b4c6-e38f-495e-b570-b626cef280d0
END:VEVENT
END:VCALENDAR
