BEGIN:VCALENDAR
PRODID:-//Session events Calendar//IBA//EN
CALSCALE:GREGORIAN
VERSION:2.0
BEGIN:VEVENT
DTSTAMP:20260420T085521Z
DTSTART:20231102T101500Z
DTEND:20231102T113000Z
SUMMARY:Multinational internal investigations: the role of the employment
  lawyer – a multinational case study
DESCRIPTION:This session will examine trends and challenges for in-house 
 and external counsel in addressing a multinational corporate investigati
 on. Subjects to be examined include the preservation of the privilege\, 
 whistleblower protection\, data-privacy and blocking-statutes
LOCATION:Rooms 202-203\, Level 2
UID:9d161863-14c5-4b4f-8ebc-e23c3887a803
END:VEVENT
END:VCALENDAR
