BEGIN:VCALENDAR
PRODID:-//Session events Calendar//IBA//EN
CALSCALE:GREGORIAN
VERSION:2.0
BEGIN:VEVENT
DTSTAMP:20260420T090808Z
DTSTART:20231031T133000Z
DTEND:20231031T144500Z
SUMMARY:Ars Ex Machina - artificial intelligence and creative expression
DESCRIPTION:The use of artificial intelligence to create works of visual 
 art has raised a host of questions about originality\, authorship\, and 
 the marketplace. This session will explore the implications of AI on cop
 yright\, fair use\, securities\, and technology law.
LOCATION:Rooms 212-213\, Level 2
UID:0303ab1c-e143-4978-b3b4-81ef299d7c4c
END:VEVENT
END:VCALENDAR
