BEGIN:VCALENDAR
PRODID:-//Session events Calendar//IBA//EN
CALSCALE:GREGORIAN
VERSION:2.0
BEGIN:VEVENT
DTSTAMP:20260420T090754Z
DTSTART:20231102T133000Z
DTEND:20231102T144500Z
SUMMARY:Class arbitration and claims by non-parties
DESCRIPTION:This session will address the issues arising out of class arb
 itration brought by shareholders against the company\, in particular the
  requirements for arbitral agreements and the effects of arbitral awards
  issued in class arbitrations and third parties.\n
LOCATION:Room 241\, Level 2
UID:7b76b08f-da4d-4aa6-aeaa-76a47549cea0
END:VEVENT
END:VCALENDAR
