BEGIN:VCALENDAR
PRODID:-//Session events Calendar//IBA//EN
CALSCALE:GREGORIAN
VERSION:2.0
BEGIN:VEVENT
DTSTAMP:20260420T102403Z
DTSTART:20230421T131500Z
DTEND:20230421T140000Z
SUMMARY:Real estate projects on the fight against climate change
DESCRIPTION:A panel of experts will provide an overview of the latest tec
 hnologies included in housing and commercial projects toreduce environme
 ntal damages caused by real estate projects.
LOCATION:
UID:0dc580f9-45f0-44a0-a287-6379aabd6a70
END:VEVENT
END:VCALENDAR
