BEGIN:VCALENDAR
PRODID:-//Session events Calendar//IBA//EN
CALSCALE:GREGORIAN
VERSION:2.0
BEGIN:VEVENT
DTSTAMP:20260420T120742Z
DTSTART:20230421T124500Z
DTEND:20230421T130000Z
SUMMARY:Opening remarks
DESCRIPTION:
LOCATION:
UID:dc1bee46-c849-45f5-9a24-fbc4b0938501
END:VEVENT
END:VCALENDAR
