BEGIN:VCALENDAR
PRODID:-//Session events Calendar//IBA//EN
CALSCALE:GREGORIAN
VERSION:2.0
BEGIN:VEVENT
DTSTAMP:20260420T120706Z
DTSTART:20230421T123000Z
DTEND:20230421T151500Z
SUMMARY:Registration
DESCRIPTION:
LOCATION:
UID:eb39872b-4db1-4323-b67c-6097c787b817
END:VEVENT
END:VCALENDAR
