BEGIN:VCALENDAR
PRODID:-//Session events Calendar//IBA//EN
CALSCALE:GREGORIAN
VERSION:2.0
BEGIN:VEVENT
DTSTAMP:20260420T103634Z
DTSTART:20230420T204500Z
DTEND:20230420T213000Z
SUMMARY:Global trends of industrial real estate assets
DESCRIPTION:Key players in the real estate industry will analyse the late
 sttrends in the market\, with special focus on distribution centres\,war
 ehouses and data centres.
LOCATION:
UID:70cff1c5-fdd8-488f-b0d2-2f1c247de922
END:VEVENT
END:VCALENDAR
