BEGIN:VCALENDAR
PRODID:-//Session events Calendar//IBA//EN
CALSCALE:GREGORIAN
VERSION:2.0
BEGIN:VEVENT
DTSTAMP:20260420T120705Z
DTSTART:20230420T200000Z
DTEND:20230420T204500Z
SUMMARY:New challenges for construction contracts
DESCRIPTION:After several turbulent years for the construction industry d
 ue tothe pandemic\, supply chain issues\, material shortages\, a panel o
 fexperienced attorneys will discuss how to deal with construction contra
 cts during difficult periods.
LOCATION:
UID:430026cb-400c-43c6-be6a-610c7001da67
END:VEVENT
END:VCALENDAR
