BEGIN:VCALENDAR
PRODID:-//Session events Calendar//IBA//EN
CALSCALE:GREGORIAN
VERSION:2.0
BEGIN:VEVENT
DTSTAMP:20260420T102404Z
DTSTART:20230420T184500Z
DTEND:20230420T193000Z
SUMMARY:Regulatory challenges on real estate projects
DESCRIPTION:As climate change demandsmore eco-friendly projects\,countrie
 s have updated their regulations in the benefit of sustainable projects.
  Also\, real estate projects have been forcedto contribute to public inf
 raestructure to develop big scaleprojects. A panel of global experts wil
 l discuss the most recentrequirements for the development of real estate
  projects from anenviromental and site contamination perspective.
LOCATION:
UID:3e5e2cac-c881-49e6-a542-9aa073a3e9d0
END:VEVENT
END:VCALENDAR
