BEGIN:VCALENDAR
PRODID:-//Session events Calendar//IBA//EN
CALSCALE:GREGORIAN
VERSION:2.0
BEGIN:VEVENT
DTSTAMP:20260420T120742Z
DTSTART:20230420T165000Z
DTEND:20230420T180000Z
SUMMARY:Lunch
DESCRIPTION:
LOCATION:
UID:0224d3dc-2756-4e6b-a395-38177ff73636
END:VEVENT
END:VCALENDAR
