BEGIN:VCALENDAR
PRODID:-//Session events Calendar//IBA//EN
CALSCALE:GREGORIAN
VERSION:2.0
BEGIN:VEVENT
DTSTAMP:20260420T102403Z
DTSTART:20230420T143000Z
DTEND:20230420T151500Z
SUMMARY:Real estate financing during a high inflation period
DESCRIPTION:A panel of experts will look at how the current high inflatio
 nrates have affected the financing of real estate market\, its assetvalu
 ation and how real estate companies and clients have to dealwith that.
LOCATION:
UID:64de784c-f88f-4138-8b0a-5a230b1166a5
END:VEVENT
END:VCALENDAR
