BEGIN:VCALENDAR
PRODID:-//Session events Calendar//IBA//EN
CALSCALE:GREGORIAN
VERSION:2.0
BEGIN:VEVENT
DTSTAMP:20260420T120706Z
DTSTART:20230420T140000Z
DTEND:20230420T143000Z
SUMMARY:Coffee/tea break
DESCRIPTION:
LOCATION:
UID:a15f7516-2bc8-4457-9ff9-f7ac029eaa01
END:VEVENT
END:VCALENDAR
