BEGIN:VCALENDAR
PRODID:-//Session events Calendar//IBA//EN
CALSCALE:GREGORIAN
VERSION:2.0
BEGIN:VEVENT
DTSTAMP:20260420T120705Z
DTSTART:20230420T124500Z
DTEND:20230420T131500Z
SUMMARY:Keynote Speaker
DESCRIPTION:
LOCATION:
UID:688886bc-83d8-482d-9911-ea0c93ddf115
END:VEVENT
END:VCALENDAR
