BEGIN:VCALENDAR
PRODID:-//Session events Calendar//IBA//EN
CALSCALE:GREGORIAN
VERSION:2.0
BEGIN:VEVENT
DTSTAMP:20260420T102403Z
DTSTART:20230420T120000Z
DTEND:20230420T200000Z
SUMMARY:Registration
DESCRIPTION:
LOCATION:
UID:98d91397-cf67-44d3-b06f-30a023f2e0bc
END:VEVENT
END:VCALENDAR
