BEGIN:VCALENDAR
PRODID:-//Session events Calendar//IBA//EN
CALSCALE:GREGORIAN
VERSION:2.0
BEGIN:VEVENT
DTSTAMP:20260420T130806Z
DTSTART:20231101T151500Z
DTEND:20231101T163000Z
SUMMARY:Pathways to decarbonising extractive industry projects
DESCRIPTION:Decarbonising extractive industries operations is a vital com
 ponent of their fundamental role in the green energy transition\, meetin
 g investor and community expectations\, and supplying critical minerals 
 and energy fuels to the renewables\, automobile\, high-tech and other in
 dustries. Promising pathways to reducing and ultimately eliminating the 
 carbon footprint of projects or achieving net-zero objectives include:\n
 \n\n	the emerging potential to source new energy from hydrogen and scala
 ble modular nuclear technology\;\n	electrification of equipment and faci
 lities\;\n	point source carbon capture and sequestration for minerals an
 d gas processing\;\n	carbon diligence in relation to companies’ upstream
  supply chains\;and\n	contemporaneous and post-operations utilisation of
  disturbed lands for co-siting renewables facilities.\n\n
LOCATION:Room 343\, Level 3
UID:e2c18c90-6b14-4ce2-8d43-9eb8d7381cbc
END:VEVENT
END:VCALENDAR
