BEGIN:VCALENDAR
PRODID:-//Session events Calendar//IBA//EN
CALSCALE:GREGORIAN
VERSION:2.0
BEGIN:VEVENT
DTSTAMP:20260420T103311Z
DTSTART:20231101T100000Z
DTEND:20231101T120000Z
SUMMARY:Children - innocent victims of war and disasters
DESCRIPTION:Wars and other disasters whether natural or manmade have many
  innocent victims\, but the most helpless are children. The consequences
  for them are huge\, often lifelong and lifechanging\, impacting future 
 generations. Leaving aside the obvious (physical injury and homelessness
 ) families and communities may be ripped apart\, roaming stateless\, fri
 endless\, unable to return home\, seeking sanctuary elsewhere and/or fac
 ing life in refugee camps ill-equipped for their future. Child victims f
 ace not only harsh and uncertain present and futures\, but further risks
  of exploitation. This session will bring together legal and social expe
 rts to discuss the ramifications of war and disasters on children around
  the world and what we as a legal community can do to help.
LOCATION:Rooms 202-203\, Level 2
UID:ad7713a5-e731-47d0-977c-38ef6df4f060
END:VEVENT
END:VCALENDAR
