BEGIN:VCALENDAR
PRODID:-//Session events Calendar//IBA//EN
CALSCALE:GREGORIAN
VERSION:2.0
BEGIN:VEVENT
DTSTAMP:20260420T090801Z
DTSTART:20231102T151500Z
DTEND:20231102T163000Z
SUMMARY:Young lawyers 101: how to retain young talent and recurve law fir
 m continuity
DESCRIPTION:It seems young lawyers want it all: exceptional pay\, full fl
 exibility\, perks and positive leadership. How can law firms meet these 
 needs if they should?
LOCATION:Room 353\, Level 3
UID:f4fa4086-da61-464e-8895-3fd35e9b5f2e
END:VEVENT
END:VCALENDAR
