BEGIN:VCALENDAR
PRODID:-//Session events Calendar//IBA//EN
CALSCALE:GREGORIAN
VERSION:2.0
BEGIN:VEVENT
DTSTAMP:20260420T090801Z
DTSTART:20231101T101500Z
DTEND:20231101T113000Z
SUMMARY:Metaverse impacts on the life science industry
DESCRIPTION:Healthcare in the age of the Metaverse and AI: The rise of th
 e use of AI and the Metaverse has opened up many\, if not fantastic\, op
 portunities in the healthcare and life sciences industries. However\, as
  healthcare enters this era\, potential legal challenges and concerns ar
 ise and need to be structured to ensure its sustainable development. The
  panel will consider what these legal issues are (such as patient data p
 rivacy\, liability in medical decision-making involving AI\, protection 
 and valuation of intellectual property rights\, and more)\, how the exis
 ting legislative\, regulatory and ethical landscape already addresses su
 ch legal concerns and what the coming legislations will bring.
LOCATION:Room 315\, Level 3
UID:79269160-c570-4825-b5b0-e6418be9004b
END:VEVENT
END:VCALENDAR
