BEGIN:VCALENDAR
PRODID:-//Session events Calendar//IBA//EN
CALSCALE:GREGORIAN
VERSION:2.0
BEGIN:VEVENT
DTSTAMP:20260421T011019Z
DTSTART:20230124T230000Z
DTEND:20230124T233000Z
SUMMARY:Closing remarks 
DESCRIPTION:
LOCATION:
UID:a703c288-477f-4f6e-bfa9-e746dcb9db87
END:VEVENT
END:VCALENDAR
