BEGIN:VCALENDAR
PRODID:-//Session events Calendar//IBA//EN
CALSCALE:GREGORIAN
VERSION:2.0
BEGIN:VEVENT
DTSTAMP:20260421T011019Z
DTSTART:20230124T213000Z
DTEND:20230124T230000Z
SUMMARY:Session seven: AI OU: how AI and machine learning are transformin
 g everyday lives
DESCRIPTION:Join a panel of thought leaders in exploring current and futu
 re implications of artificial intelligence (AI)\, with discussion rangin
 g from the regulation of AI to how AI can be used as a force for good.\n
 
LOCATION:
UID:274375ce-29cc-4bb4-9c35-d9477e9af3c4
END:VEVENT
END:VCALENDAR
