BEGIN:VCALENDAR
PRODID:-//Session events Calendar//IBA//EN
CALSCALE:GREGORIAN
VERSION:2.0
BEGIN:VEVENT
DTSTAMP:20260421T011100Z
DTSTART:20230124T200000Z
DTEND:20230124T213000Z
SUMMARY:Lunch
DESCRIPTION:
LOCATION:
UID:3a292168-b5fe-4238-b34b-6c5cc2ef3a1d
END:VEVENT
END:VCALENDAR
